BEGIN:VCALENDAR
PRODID:-//eluceo/ical//2.0/EN
VERSION:2.0
CALSCALE:GREGORIAN
BEGIN:VEVENT
UID:f95f82470bc8a024a4386ab4a2ba7f27
DTSTAMP:20260422T104419Z
SUMMARY:BI Scholar in Residence Weekend 2023
DESCRIPTION:Jewish Federation of Central Massachusetts\nCalendar\nhttps://j
 ewishcentralmass.org/calendar/bi-scholar-in-residence-weekend-2023\n\nArti
 st in Residence Weekend events with advance registration:\n\nFriday night 
 dinner\n\nSunday afternoon concert\n\n You must preregister to attend the 
 Friday night dinner.\n\nConcert tickets are available in advance or at the
  door.\n\nOther than the dinner and the concert\, all the weekend events a
 re free and without preregistration.\n\nFor a sample of Rabbi Josh's music
 \, click here .
DTSTART;TZID=America/New_York:20230602T180000
DTEND;TZID=America/New_York:20230604T170000
END:VEVENT
END:VCALENDAR
