BEGIN:VCALENDAR
PRODID:-//eluceo/ical//2.0/EN
VERSION:2.0
CALSCALE:GREGORIAN
BEGIN:VEVENT
UID:141d99c88ce8b7d9eee3e5ccd14bbddf
DTSTAMP:20260423T172040Z
SUMMARY:BI - Rimon Torah Tots (ages 0 – 5)
DESCRIPTION:Jewish Federation of Central Massachusetts\nCalendar\nhttps://j
 ewishcentralmass.org/calendar/bi-rimon-torah-tots-ages-0-5\n\nBI - Rimon T
 orah Tots (ages 0 – 5)\n\n10:15am
DTSTART;TZID=America/New_York:20231118T101500
DTEND;TZID=America/New_York:20231118T121500
END:VEVENT
END:VCALENDAR
