BEGIN:VCALENDAR
PRODID:-//eluceo/ical//2.0/EN
VERSION:2.0
CALSCALE:GREGORIAN
BEGIN:VEVENT
UID:ca07e48176bdef055a4e0a6166e7440e
DTSTAMP:20260423T141841Z
SUMMARY:BI Reverse Cleanup
DESCRIPTION:Jewish Federation of Central Massachusetts\nCalendar\nhttps://j
 ewishcentralmass.org/calendar/bi-reverse-cleanup\n\nBI Reverse Cleanup\n\n
 12:00 pm
DTSTART;TZID=America/New_York:20240929T120000
DTEND;TZID=America/New_York:20240929T140000
END:VEVENT
END:VCALENDAR
