BEGIN:VCALENDAR
PRODID:-//eluceo/ical//2.0/EN
VERSION:2.0
CALSCALE:GREGORIAN
BEGIN:VEVENT
UID:78e49b1a627a64b2868ae4a5fdc53fb1
DTSTAMP:20260423T181905Z
SUMMARY:BI - Religious School
DESCRIPTION:Jewish Federation of Central Massachusetts\nCalendar\nhttps://j
 ewishcentralmass.org/calendar/bi-religious-school\n\nBI - Religious School
  
DTSTART;TZID=America/New_York:20210911T093000
DTEND;TZID=America/New_York:20210911T113000
END:VEVENT
END:VCALENDAR
