BEGIN:VCALENDAR
PRODID:-//eluceo/ical//2.0/EN
VERSION:2.0
CALSCALE:GREGORIAN
BEGIN:VEVENT
UID:49241bd36a8770c536a2e846717c7b62
DTSTAMP:20260420T083006Z
SUMMARY:BI - Religion School
DESCRIPTION:Jewish Federation of Central Massachusetts\nCalendar\nhttps://j
 ewishcentralmass.org/calendar/bi-religion-school\n\nBI - Religion School\n
 \nTime - TBA
DTSTART;TZID=America/New_York:20260518T170000
DTEND;TZID=America/New_York:20260518T190000
END:VEVENT
END:VCALENDAR
