BEGIN:VCALENDAR
PRODID:-//eluceo/ical//2.0/EN
VERSION:2.0
CALSCALE:GREGORIAN
BEGIN:VEVENT
UID:cee1179204c128f9a8e293a173fda8b2
DTSTAMP:20260423T102756Z
SUMMARY:BI Rainbow Shabbat
DESCRIPTION:Jewish Federation of Central Massachusetts\nCalendar\nhttps://j
 ewishcentralmass.org/calendar/bi-rainbow-shabbat\n\nBI Rainbow Shabbat\n\n
 9:30 am
DTSTART;TZID=America/New_York:20221029T093000
DTEND;TZID=America/New_York:20221029T113000
END:VEVENT
END:VCALENDAR
