BEGIN:VCALENDAR
PRODID:-//eluceo/ical//2.0/EN
VERSION:2.0
CALSCALE:GREGORIAN
BEGIN:VEVENT
UID:4da65c888981a65d9ccc28c51656f0d3
DTSTAMP:20260421T121450Z
SUMMARY:BI Racial Justice Shabbat
DESCRIPTION:Jewish Federation of Central Massachusetts\nCalendar\nhttps://j
 ewishcentralmass.org/calendar/bi-racial-justice-shabbat\n\nBI Racial Justi
 ce Shabbat\n\n9:30 am
DTSTART;TZID=America/New_York:20250118T093000
DTEND;TZID=America/New_York:20250118T113000
END:VEVENT
END:VCALENDAR
