BEGIN:VCALENDAR
PRODID:-//eluceo/ical//2.0/EN
VERSION:2.0
CALSCALE:GREGORIAN
BEGIN:VEVENT
UID:4a1dde7a2d0d60dbf34e017d8befc50b
DTSTAMP:20260422T124541Z
SUMMARY:BI Racial Justice Event - November 2022
DESCRIPTION:Jewish Federation of Central Massachusetts\nCalendar\nhttps://j
 ewishcentralmass.org/calendar/bi-racial-justice-event-november-2022\n\nBI 
 Racial Justice Event\n\n9:00 am
DTSTART;TZID=America/New_York:20221106T000000
DTEND;TZID=America/New_York:20221106T235959
END:VEVENT
END:VCALENDAR
