BEGIN:VCALENDAR
PRODID:-//eluceo/ical//2.0/EN
VERSION:2.0
CALSCALE:GREGORIAN
BEGIN:VEVENT
UID:8de5e79835ac3b1b59265ec504e2afd2
DTSTAMP:20260422T223026Z
SUMMARY:BI Purim 5785
DESCRIPTION:Jewish Federation of Central Massachusetts\nCalendar\nhttps://j
 ewishcentralmass.org/calendar/bi-purim-5785\n\nBI Purim \n\n6:00 pm
DTSTART;TZID=America/New_York:20250313T180000
DTEND;TZID=America/New_York:20250313T200000
END:VEVENT
END:VCALENDAR
