BEGIN:VCALENDAR
PRODID:-//eluceo/ical//2.0/EN
VERSION:2.0
CALSCALE:GREGORIAN
BEGIN:VEVENT
UID:b65835e42d6c6314f5cd1f717b95613e
DTSTAMP:20260423T114603Z
SUMMARY:BI Open House
DESCRIPTION:Jewish Federation of Central Massachusetts\nCalendar\nhttps://j
 ewishcentralmass.org/calendar/bi-open-house\n\nBI Open House\n\n5:00 - 7:0
 0 pm
DTSTART;TZID=America/New_York:20220911T170000
DTEND;TZID=America/New_York:20220911T190000
END:VEVENT
END:VCALENDAR
