BEGIN:VCALENDAR
PRODID:-//eluceo/ical//2.0/EN
VERSION:2.0
CALSCALE:GREGORIAN
BEGIN:VEVENT
UID:aef7945e963245fea73bffd20af1812e
DTSTAMP:20260422T035119Z
SUMMARY:BI Movie Night
DESCRIPTION:Jewish Federation of Central Massachusetts\nCalendar\nhttps://j
 ewishcentralmass.org/calendar/bi-movie-night\n\nTHE FRISCO KID\n\n6th nigh
 t of Hanukkah\n\nTuesday\, December 12\, 2023 7:30 pm\n\n \n\n 
DTSTART;TZID=America/New_York:20231212T193000
DTEND;TZID=America/New_York:20231212T213000
END:VEVENT
END:VCALENDAR
