BEGIN:VCALENDAR
PRODID:-//eluceo/ical//2.0/EN
VERSION:2.0
CALSCALE:GREGORIAN
BEGIN:VEVENT
UID:4e45c67ac2057ce3105ece76ef17d1d2
DTSTAMP:20260420T184550Z
SUMMARY:BI - Model Seder 2022
DESCRIPTION:Jewish Federation of Central Massachusetts\nCalendar\nhttps://j
 ewishcentralmass.org/calendar/bi-model-seder-2022\n\nBI - Model Seder
DTSTART;TZID=America/New_York:20220413T160000
DTEND;TZID=America/New_York:20220413T180000
END:VEVENT
END:VCALENDAR
