BEGIN:VCALENDAR
PRODID:-//eluceo/ical//2.0/EN
VERSION:2.0
CALSCALE:GREGORIAN
BEGIN:VEVENT
UID:c6df07f4174ac22ab4aaebaf9eae6708
DTSTAMP:20260422T120256Z
SUMMARY:BI Mbrs Together
DESCRIPTION:Jewish Federation of Central Massachusetts\nCalendar\nhttps://j
 ewishcentralmass.org/calendar/bi-mbrs-together\n\nBI Mbrs Together\n\n9:00
  am
DTSTART;TZID=America/New_York:20221211T090000
DTEND;TZID=America/New_York:20221211T110000
END:VEVENT
END:VCALENDAR
