BEGIN:VCALENDAR
PRODID:-//eluceo/ical//2.0/EN
VERSION:2.0
CALSCALE:GREGORIAN
BEGIN:VEVENT
UID:8d05087691a70336ab7f9088edd1b7a0
DTSTAMP:20260423T155047Z
SUMMARY:BI Latke Bar and Drink Pairing
DESCRIPTION:Jewish Federation of Central Massachusetts\nCalendar\nhttps://j
 ewishcentralmass.org/calendar/bi-latke-bar-and-drink-pairing\n\nBI Latke B
 ar and Drink Pairing\n\n5:30 pm
DTSTART;TZID=America/New_York:20241221T173000
DTEND;TZID=America/New_York:20241221T193000
END:VEVENT
END:VCALENDAR
