BEGIN:VCALENDAR
PRODID:-//eluceo/ical//2.0/EN
VERSION:2.0
CALSCALE:GREGORIAN
BEGIN:VEVENT
UID:8e808a2c578a4ae3b60b02802a2f4bbc
DTSTAMP:20260424T072816Z
SUMMARY:BI Interfaith Dinner
DESCRIPTION:Jewish Federation of Central Massachusetts\nCalendar\nhttps://j
 ewishcentralmass.org/calendar/bi-interfaith-dinner\n\nBI Interfaith DInner
 \n\n5:30 pm
DTSTART;TZID=America/New_York:20221012T173000
DTEND;TZID=America/New_York:20221012T193000
END:VEVENT
END:VCALENDAR
