BEGIN:VCALENDAR
PRODID:-//eluceo/ical//2.0/EN
VERSION:2.0
CALSCALE:GREGORIAN
BEGIN:VEVENT
UID:5a9f0f666e20f0eb0a982df3ae1aec7d
DTSTAMP:20260422T153052Z
SUMMARY:BI Hamataschen Baking
DESCRIPTION:Jewish Federation of Central Massachusetts\nCalendar\nhttps://j
 ewishcentralmass.org/calendar/bi-hamataschen-baking\n\nBI Hamataschen Baki
 ng\n\n10:00 am
DTSTART;TZID=America/New_York:20250309T100000
DTEND;TZID=America/New_York:20250309T120000
END:VEVENT
END:VCALENDAR
