BEGIN:VCALENDAR
PRODID:-//eluceo/ical//2.0/EN
VERSION:2.0
CALSCALE:GREGORIAN
BEGIN:VEVENT
UID:7d4a034b3a8399c018123fce51aea6ef
DTSTAMP:20260421T023815Z
SUMMARY:BI - Frame Windows via Zoom
DESCRIPTION:Jewish Federation of Central Massachusetts\nCalendar\nhttps://j
 ewishcentralmass.org/calendar/bi-frame-windows1\n\nBI - Frame Windows via 
 Zoom\n\nhttps://www.bethisraelworc.org/event/windows-on-teshuva-with-rabbi
 -shai-held.html
DTSTART;TZID=America/New_York:20210825T193000
DTEND;TZID=America/New_York:20210825T203000
END:VEVENT
END:VCALENDAR
