BEGIN:VCALENDAR
PRODID:-//eluceo/ical//2.0/EN
VERSION:2.0
CALSCALE:GREGORIAN
BEGIN:VEVENT
UID:06c2660c176c8ff98ed88e3f33d1cdf2
DTSTAMP:20260424T000923Z
SUMMARY:BI Film Series: The Hate U Give
DESCRIPTION:Jewish Federation of Central Massachusetts\nCalendar\nhttps://j
 ewishcentralmass.org/calendar/bi-film-series-the-hate-u-give\n\nBI Film Se
 ries: The Hate U Give\n\nMarch 19th at 6:00 pm
DTSTART;TZID=America/New_York:20230319T180000
DTEND;TZID=America/New_York:20230319T200000
END:VEVENT
END:VCALENDAR
