BEGIN:VCALENDAR
PRODID:-//eluceo/ical//2.0/EN
VERSION:2.0
CALSCALE:GREGORIAN
BEGIN:VEVENT
UID:83ab14d2ac5382855830882f0ad103eb
DTSTAMP:20260424T130812Z
SUMMARY:BI Film Series: Shared Legacies
DESCRIPTION:Jewish Federation of Central Massachusetts\nCalendar\nhttps://j
 ewishcentralmass.org/calendar/bi-film-series-shared-legacies\n\nBI Film Se
 ries: Shared Legacies\n\nSunday\, February 19th at 6:00 pm
DTSTART;TZID=America/New_York:20230219T180000
DTEND;TZID=America/New_York:20230219T200000
END:VEVENT
END:VCALENDAR
