BEGIN:VCALENDAR
PRODID:-//eluceo/ical//2.0/EN
VERSION:2.0
CALSCALE:GREGORIAN
BEGIN:VEVENT
UID:1a4d948f68fa2ddf09d18d0a01e0be87
DTSTAMP:20260421T051154Z
SUMMARY:BI Film Series: Rosenwald
DESCRIPTION:Jewish Federation of Central Massachusetts\nCalendar\nhttps://j
 ewishcentralmass.org/calendar/bi-film-series-rosenwald\n\nBI Film Series: 
 Rosenwald\n\nApril 23rd at 6:00 pm
DTSTART;TZID=America/New_York:20230423T180000
DTEND;TZID=America/New_York:20230423T200000
END:VEVENT
END:VCALENDAR
