BEGIN:VCALENDAR
PRODID:-//eluceo/ical//2.0/EN
VERSION:2.0
CALSCALE:GREGORIAN
BEGIN:VEVENT
UID:7e5f026b7d313d356226baa7d19a42b6
DTSTAMP:20260421T000257Z
SUMMARY:BI Film Series: James' Journey to Jerusalem
DESCRIPTION:Jewish Federation of Central Massachusetts\nCalendar\nhttps://j
 ewishcentralmass.org/calendar/bi-film-series-james-journey-to-jerusalem\n\
 nBI Film Series: James' Journey to Jerusalem\n\nMay 21st at 6:\;00 pm
DTSTART;TZID=America/New_York:20230521T180000
DTEND;TZID=America/New_York:20230521T200000
END:VEVENT
END:VCALENDAR
