BEGIN:VCALENDAR
PRODID:-//eluceo/ical//2.0/EN
VERSION:2.0
CALSCALE:GREGORIAN
BEGIN:VEVENT
UID:ecf32a2bf887167f43cb6de99b293aaa
DTSTAMP:20260423T124959Z
SUMMARY:BI Film Series: Blacks and Jews
DESCRIPTION:Jewish Federation of Central Massachusetts\nCalendar\nhttps://j
 ewishcentralmass.org/calendar/bi-film-series-blacks-and-jews\n\nBI Film Se
 ries: Blacks and Jews\n\nJune 18th at 6:00 pm
DTSTART;TZID=America/New_York:20230618T180000
DTEND;TZID=America/New_York:20230618T200000
END:VEVENT
END:VCALENDAR
