BEGIN:VCALENDAR
PRODID:-//eluceo/ical//2.0/EN
VERSION:2.0
CALSCALE:GREGORIAN
BEGIN:VEVENT
UID:9a2233503fd74fe9ed4572f2287949c8
DTSTAMP:20260423T212436Z
SUMMARY:BI - Family Program
DESCRIPTION:Jewish Federation of Central Massachusetts\nCalendar\nhttps://j
 ewishcentralmass.org/calendar/bi-family-program\n\nBI Family Program\n\n4:
 00 - 6:00 pm
DTSTART;TZID=America/New_York:20211013T160000
DTEND;TZID=America/New_York:20211013T180000
END:VEVENT
END:VCALENDAR
