BEGIN:VCALENDAR
PRODID:-//eluceo/ical//2.0/EN
VERSION:2.0
CALSCALE:GREGORIAN
BEGIN:VEVENT
UID:53cc92657ed29b9d32ef7aca9361a50d
DTSTAMP:20260423T024046Z
SUMMARY:BI - Exploring Judaism Mini-Course
DESCRIPTION:Jewish Federation of Central Massachusetts\nCalendar\nhttps://j
 ewishcentralmass.org/calendar/bi-exploring-judaism-mini-course\n\nBI - Exp
 loring Judaism Mini-Course\n\nhttps://www.bethisraelworc.org/event/explori
 ng-judaism-mini-course.html
DTSTART;TZID=America/New_York:20210809T194500
DTEND;TZID=America/New_York:20210809T204500
END:VEVENT
END:VCALENDAR
