BEGIN:VCALENDAR
PRODID:-//eluceo/ical//2.0/EN
VERSION:2.0
CALSCALE:GREGORIAN
BEGIN:VEVENT
UID:10c4ee70276979ab6e8576fe85a3ccf9
DTSTAMP:20260422T105636Z
SUMMARY:BI Ethiopian Day of Hope (tent)
DESCRIPTION:Jewish Federation of Central Massachusetts\nCalendar\nhttps://j
 ewishcentralmass.org/calendar/bi-ethiopian-day-of-hope-tent\n\nBI Ethiopia
 n Day of Hope (tent)\n\n5:30 pm
DTSTART;TZID=America/New_York:20241130T173000
DTEND;TZID=America/New_York:20241130T193000
END:VEVENT
END:VCALENDAR
