BEGIN:VCALENDAR
PRODID:-//eluceo/ical//2.0/EN
VERSION:2.0
CALSCALE:GREGORIAN
BEGIN:VEVENT
UID:bd1c8aed6ba9245f6516072e0ecc0979
DTSTAMP:20260421T065344Z
SUMMARY:BI Environmental Shabbat
DESCRIPTION:Jewish Federation of Central Massachusetts\nCalendar\nhttps://j
 ewishcentralmass.org/calendar/bi-environmental-shabbat\n\nBI Environmental
  Shabbat\n\n9:30 pm
DTSTART;TZID=America/New_York:20241102T093000
DTEND;TZID=America/New_York:20241102T113000
END:VEVENT
END:VCALENDAR
