BEGIN:VCALENDAR
PRODID:-//eluceo/ical//2.0/EN
VERSION:2.0
CALSCALE:GREGORIAN
BEGIN:VEVENT
UID:33ed62343363bffd0bd37c941b785170
DTSTAMP:20260422T223929Z
SUMMARY:BI Dedication
DESCRIPTION:Jewish Federation of Central Massachusetts\nCalendar\nhttps://j
 ewishcentralmass.org/calendar/bi-dedication\n\nBI Dedication - stay tuned 
 for details!
DTSTART;TZID=America/New_York:20180624T150000
DTEND;TZID=America/New_York:20180624T200000
END:VEVENT
END:VCALENDAR
