BEGIN:VCALENDAR
PRODID:-//eluceo/ical//2.0/EN
VERSION:2.0
CALSCALE:GREGORIAN
BEGIN:VEVENT
UID:e9625ab88a83028268529261e4d9aa22
DTSTAMP:20260425T032419Z
SUMMARY:BI Cholant Shabbat
DESCRIPTION:Jewish Federation of Central Massachusetts\nCalendar\nhttps://j
 ewishcentralmass.org/calendar/bi-cholant-shabbat\n\nBI Cholant Shabbat
DTSTART;TZID=America/New_York:20250104T173000
DTEND;TZID=America/New_York:20250104T193000
END:VEVENT
END:VCALENDAR
