BEGIN:VCALENDAR
PRODID:-//eluceo/ical//2.0/EN
VERSION:2.0
CALSCALE:GREGORIAN
BEGIN:VEVENT
UID:7b3325ed24ab58d9569352f8b68860eb
DTSTAMP:20260421T153328Z
SUMMARY:BI - Child's Challaween
DESCRIPTION:Jewish Federation of Central Massachusetts\nCalendar\nhttps://j
 ewishcentralmass.org/calendar/bi-childs-challaween\n\nBI - Children's Chal
 laween at 10:00 am
DTSTART;TZID=America/New_York:20211030T100000
DTEND;TZID=America/New_York:20211030T120000
END:VEVENT
END:VCALENDAR
