BEGIN:VCALENDAR
PRODID:-//eluceo/ical//2.0/EN
VERSION:2.0
CALSCALE:GREGORIAN
BEGIN:VEVENT
UID:6537a64ae43d89b22fe88f746954cc4f
DTSTAMP:20260422T222730Z
SUMMARY:BI Cafe Coffeehouse
DESCRIPTION:Jewish Federation of Central Massachusetts\nCalendar\nhttps://j
 ewishcentralmass.org/calendar/bi-cafe-coffeehouse\n\nBI Cafe Coffeehouse\n
 \n5:30 pm
DTSTART;TZID=America/New_York:20241109T173000
DTEND;TZID=America/New_York:20241109T193000
END:VEVENT
END:VCALENDAR
