BEGIN:VCALENDAR
PRODID:-//eluceo/ical//2.0/EN
VERSION:2.0
CALSCALE:GREGORIAN
BEGIN:VEVENT
UID:b1d28abfc8d640554c52015a569ef475
DTSTAMP:20260421T222836Z
SUMMARY:BI Bro Breakfast - Nov 2023
DESCRIPTION:Jewish Federation of Central Massachusetts\nCalendar\nhttps://j
 ewishcentralmass.org/calendar/bi-bro-breakfast-nov-2023\n\nBROTHERHOOD BRE
 AKFAST\n\nSunday\, November 19\, 2023\n\nMinyan 8:15 AM\n\nBreakfast at 9:
 30 & Speaker at 10:00\n\nALL ARE WELCOME
DTSTART;TZID=America/New_York:20231119T081500
DTEND;TZID=America/New_York:20231119T110000
END:VEVENT
END:VCALENDAR
