BEGIN:VCALENDAR
PRODID:-//eluceo/ical//2.0/EN
VERSION:2.0
CALSCALE:GREGORIAN
BEGIN:VEVENT
UID:165b315142aefe95e9398513ca5317b3
DTSTAMP:20260422T160921Z
SUMMARY:BI Bro Breakfast - 2024
DESCRIPTION:Jewish Federation of Central Massachusetts\nCalendar\nhttps://j
 ewishcentralmass.org/calendar/bi-bro-breakfast-2024\n\nBI Brother Breakfas
 t\n\n9:00 am
DTSTART;TZID=America/New_York:20240107T090000
DTEND;TZID=America/New_York:20240107T110000
END:VEVENT
END:VCALENDAR
