BEGIN:VCALENDAR
PRODID:-//eluceo/ical//2.0/EN
VERSION:2.0
CALSCALE:GREGORIAN
BEGIN:VEVENT
UID:11192fa80149d9b3c4a4debdffd3bbd8
DTSTAMP:20260422T144824Z
SUMMARY:BI Book Author Series
DESCRIPTION:Jewish Federation of Central Massachusetts\nCalendar\nhttps://j
 ewishcentralmass.org/calendar/bi-book-author-series\n\nJoan Leegant\, auth
 or of Displaced Persons\, September 17th @ 7:30pm\, at Congregation Beth I
 srael
DTSTART;TZID=America/New_York:20240917T193000
DTEND;TZID=America/New_York:20240917T213000
END:VEVENT
END:VCALENDAR
