BEGIN:VCALENDAR
PRODID:-//eluceo/ical//2.0/EN
VERSION:2.0
CALSCALE:GREGORIAN
BEGIN:VEVENT
UID:981f4e5b7e8a059ddb539a7b3efb9c19
DTSTAMP:20260421T152545Z
SUMMARY:BI Beyond Bagels\, Jewish cooking worldwide\, Sefardi cuisine
DESCRIPTION:Jewish Federation of Central Massachusetts\nCalendar\nhttps://j
 ewishcentralmass.org/calendar/bi-beyond-bagels-jewish-cooking-worldwide-se
 fardi-cuisine\n\nBI - Beyond Bagels\, Jewish cooking worldwide\, Sefardi c
 uisine  \n\n1:30 pm
DTSTART;TZID=America/New_York:20240204T133000
DTEND;TZID=America/New_York:20240204T160000
END:VEVENT
END:VCALENDAR
