BEGIN:VCALENDAR
PRODID:-//eluceo/ical//2.0/EN
VERSION:2.0
CALSCALE:GREGORIAN
BEGIN:VEVENT
UID:7909371263f31ea5a33e90c770d15a59
DTSTAMP:20260423T001713Z
SUMMARY:BI Beyond Bagels\, Jewish cooking worldwide\, Mizrachi cuisine
DESCRIPTION:Jewish Federation of Central Massachusetts\nCalendar\nhttps://j
 ewishcentralmass.org/calendar/bi-beyond-bagels-jewish-cooking-worldwide-mi
 zrachi-cuisine\n\nBI - Beyond Bagels\, Jewish cooking worldwide\, Mizrach
 i cuisine.  \n\n1:30 pm
DTSTART;TZID=America/New_York:20240317T133000
DTEND;TZID=America/New_York:20240317T160000
END:VEVENT
END:VCALENDAR
