BEGIN:VCALENDAR
PRODID:-//eluceo/ical//2.0/EN
VERSION:2.0
CALSCALE:GREGORIAN
BEGIN:VEVENT
UID:6e699c9faf92fec38fe3aa8dafc18cc7
DTSTAMP:20260422T203219Z
SUMMARY:BI Beer Meat Up
DESCRIPTION:Jewish Federation of Central Massachusetts\nCalendar\nhttps://j
 ewishcentralmass.org/calendar/bi-beer-meat-off\n\nBI Beer Meat Up\n\n7:30 
 pm
DTSTART;TZID=America/New_York:20250421T193000
DTEND;TZID=America/New_York:20250421T213000
END:VEVENT
END:VCALENDAR
