BEGIN:VCALENDAR
PRODID:-//eluceo/ical//2.0/EN
VERSION:2.0
CALSCALE:GREGORIAN
BEGIN:VEVENT
UID:d29afe4cd488527307eee7dc854835ba
DTSTAMP:20260422T050819Z
SUMMARY:BI - Bagels\, Books & Latkes with PJ/PJOW
DESCRIPTION:Jewish Federation of Central Massachusetts\nCalendar\nhttps://j
 ewishcentralmass.org/calendar/bi-bagels-books-latkes\n\nBI Bagels and Book
 s and Latkes with PJ/PJOW on November 28 from 4-6 pm
DTSTART;TZID=America/New_York:20211128T160000
DTEND;TZID=America/New_York:20211128T180000
END:VEVENT
END:VCALENDAR
