BEGIN:VCALENDAR
PRODID:-//eluceo/ical//2.0/EN
VERSION:2.0
CALSCALE:GREGORIAN
BEGIN:VEVENT
UID:4d238f5ae84294fad95792618c755380
DTSTAMP:20260422T040934Z
SUMMARY:BI - Bagels & Books with PJ/PJOW January 2022
DESCRIPTION:Jewish Federation of Central Massachusetts\nCalendar\nhttps://j
 ewishcentralmass.org/calendar/bi-bagels-books-january-2022\n\nBI Bagels an
 d Books Winter Edition with PJ/PJOW  January 2 from 10-noon
DTSTART;TZID=America/New_York:20220102T100000
DTEND;TZID=America/New_York:20220102T120000
END:VEVENT
END:VCALENDAR
