BEGIN:VCALENDAR
PRODID:-//eluceo/ical//2.0/EN
VERSION:2.0
CALSCALE:GREGORIAN
BEGIN:VEVENT
UID:453a33846dbf07b0c095893f6114b5f2
DTSTAMP:20260421T220548Z
SUMMARY:BI - Bagels & Books
DESCRIPTION:Jewish Federation of Central Massachusetts\nCalendar\nhttps://j
 ewishcentralmass.org/calendar/bi-bagels-books\n\nBI - Bagels & Books
DTSTART;TZID=America/New_York:20210919T090000
DTEND;TZID=America/New_York:20210919T110000
END:VEVENT
END:VCALENDAR
