BEGIN:VCALENDAR
PRODID:-//eluceo/ical//2.0/EN
VERSION:2.0
CALSCALE:GREGORIAN
BEGIN:VEVENT
UID:4bce45a551ce50ecf23a3d7251062e1d
DTSTAMP:20260422T135003Z
SUMMARY:BI Bagels and Books (Israeli Themed for Yom Haatzmaut)  with PJ/PJO
 W
DESCRIPTION:Jewish Federation of Central Massachusetts\nCalendar\nhttps://j
 ewishcentralmass.org/calendar/bi-bagels-and-books-israeli-themed-for-yom-h
 aatzmaut-with-pjpjow\n\nBI Bagels and Books (Israeli Themed for Yom Haatzm
 aut)  with PJ/PJOW on May 1 from 10-noon
DTSTART;TZID=America/New_York:20220501T100000
DTEND;TZID=America/New_York:20220501T120000
END:VEVENT
END:VCALENDAR
