BEGIN:VCALENDAR
PRODID:-//eluceo/ical//2.0/EN
VERSION:2.0
CALSCALE:GREGORIAN
BEGIN:VEVENT
UID:99c41c7b839d38a27b06cd113296a025
DTSTAMP:20260420T222148Z
SUMMARY:BI - Back To Shul Barbecue and Fun Day
DESCRIPTION:Jewish Federation of Central Massachusetts\nCalendar\nhttps://j
 ewishcentralmass.org/calendar/bi-back-to-shul-barbecue-and-fun-day\n\nBI -
  Back To Shul Barbecue and Fun Day\n\n5:00 - 7:00 pm
DTSTART;TZID=America/New_York:20210829T170000
DTEND;TZID=America/New_York:20210829T190000
END:VEVENT
END:VCALENDAR
