BEGIN:VCALENDAR
PRODID:-//eluceo/ical//2.0/EN
VERSION:2.0
CALSCALE:GREGORIAN
BEGIN:VEVENT
UID:773ad9d895635befc87e8c822992453a
DTSTAMP:20260424T153844Z
SUMMARY:BI Artist in Residence  - Jan 2024
DESCRIPTION:Jewish Federation of Central Massachusetts\nCalendar\nhttps://j
 ewishcentralmass.org/calendar/bi-artist-in-residence-jan-2024\n\nBI Artist
  in Residence\n\nTIme: TBD
DTSTART;TZID=America/New_York:20240126T170000
DTEND;TZID=America/New_York:20240127T190000
END:VEVENT
END:VCALENDAR
