BEGIN:VCALENDAR
PRODID:-//eluceo/ical//2.0/EN
VERSION:2.0
CALSCALE:GREGORIAN
BEGIN:VEVENT
UID:26344197316e012b9e00573c5d9b9b90
DTSTAMP:20260420T204658Z
SUMMARY:BI Annual Meeting 2024
DESCRIPTION:Jewish Federation of Central Massachusetts\nCalendar\nhttps://j
 ewishcentralmass.org/calendar/bi-annual-meeting-2024\n\nBI Annual Meeting\
 n\n7:30 pm
DTSTART;TZID=America/New_York:20240606T193000
DTEND;TZID=America/New_York:20240606T213000
END:VEVENT
END:VCALENDAR
