BEGIN:VCALENDAR
PRODID:-//eluceo/ical//2.0/EN
VERSION:2.0
CALSCALE:GREGORIAN
BEGIN:VEVENT
UID:943e870cdbc51012ef1e0af04efa41a2
DTSTAMP:20260420T194836Z
SUMMARY:BI 3rd part Series
DESCRIPTION:Jewish Federation of Central Massachusetts\nCalendar\nhttps://j
 ewishcentralmass.org/calendar/bi-3rd-part-series\n\nBI 3rd part Series - K
 osher Eating\n\n11:00 am
DTSTART;TZID=America/New_York:20250323T110000
DTEND;TZID=America/New_York:20250323T130000
END:VEVENT
END:VCALENDAR
