BEGIN:VCALENDAR
PRODID:-//eluceo/ical//2.0/EN
VERSION:2.0
CALSCALE:GREGORIAN
BEGIN:VEVENT
UID:ac5f9044b2914b685dbf4c9dedf965c6
DTSTAMP:20260421T064551Z
SUMMARY:BI 1st of 3-part series
DESCRIPTION:Jewish Federation of Central Massachusetts\nCalendar\nhttps://j
 ewishcentralmass.org/calendar/bi-1st-of-3-part-series\n\nBI 1st of 3-part 
 series - Trip to Mikvah\n\n 
DTSTART;TZID=America/New_York:20250112T110000
DTEND;TZID=America/New_York:20250112T130000
END:VEVENT
END:VCALENDAR
