BEGIN:VCALENDAR
PRODID:-//eluceo/ical//2.0/EN
VERSION:2.0
CALSCALE:GREGORIAN
BEGIN:VEVENT
UID:9f74520fd07014f05a38c7fc79d7af6e
DTSTAMP:20260423T141959Z
SUMMARY:Beth Tikvah Women's Service
DESCRIPTION:Jewish Federation of Central Massachusetts\nCalendar\nhttps://j
 ewishcentralmass.org/calendar/beth-tikvah-womens-service\n\nBT Women's Ser
 vice
DTSTART;TZID=America/New_York:20140308T093000
DTEND;TZID=America/New_York:20140308T140000
END:VEVENT
END:VCALENDAR
