BEGIN:VCALENDAR
PRODID:-//eluceo/ical//2.0/EN
VERSION:2.0
CALSCALE:GREGORIAN
BEGIN:VEVENT
UID:60f4ade9f0a29456c10ee32e3958400a
DTSTAMP:20260424T153913Z
SUMMARY:Beth Tikvah Wine Tasting Antique Roadshow Event
DESCRIPTION:Jewish Federation of Central Massachusetts\nCalendar\nhttps://j
 ewishcentralmass.org/calendar/beth-tikvah-wine-tasting-antique-roadshow-ev
 ent\n\nBT Wine Tasting Antique Roadshow Event
DTSTART;TZID=America/New_York:20140517T190000
DTEND;TZID=America/New_York:20140517T193000
END:VEVENT
END:VCALENDAR
