BEGIN:VCALENDAR
PRODID:-//eluceo/ical//2.0/EN
VERSION:2.0
CALSCALE:GREGORIAN
BEGIN:VEVENT
UID:0245493380bcffb018c4896e29c1a353
DTSTAMP:20260423T223041Z
SUMMARY:Beth Tikvah Trivia Night
DESCRIPTION:Jewish Federation of Central Massachusetts\nCalendar\nhttps://j
 ewishcentralmass.org/calendar/beth-tikvah-trivia-night\n\nBT Trivia Night
DTSTART;TZID=America/New_York:20140322T190000
DTEND;TZID=America/New_York:20140322T220000
END:VEVENT
END:VCALENDAR
