BEGIN:VCALENDAR
PRODID:-//eluceo/ical//2.0/EN
VERSION:2.0
CALSCALE:GREGORIAN
BEGIN:VEVENT
UID:50bb9e628c7672ca6b226a230610b1d3
DTSTAMP:20260422T100934Z
SUMMARY:Beth Tikvah Synagogue Trivia Night
DESCRIPTION:Jewish Federation of Central Massachusetts\nCalendar\nhttps://j
 ewishcentralmass.org/calendar/beth-tikvah-synagogue-trivia-night\n\nBT Tri
 via Night
DTSTART;TZID=America/New_York:20130202T190000
DTEND;TZID=America/New_York:20130202T193000
END:VEVENT
END:VCALENDAR
