BEGIN:VCALENDAR
PRODID:-//eluceo/ical//2.0/EN
VERSION:2.0
CALSCALE:GREGORIAN
BEGIN:VEVENT
UID:5075c0bd66d0eed1e30467b53f005c25
DTSTAMP:20260421T144620Z
SUMMARY:Beth Tikvah Synagogue Program Scouts Shabbat
DESCRIPTION:Jewish Federation of Central Massachusetts\nCalendar\nhttps://j
 ewishcentralmass.org/calendar/beth-tikvah-synagogue-program-scouts-shabbat
 \n\nBT Scouts Shabbat Prog
DTSTART;TZID=America/New_York:20130208T190000
DTEND;TZID=America/New_York:20130208T193000
END:VEVENT
END:VCALENDAR
